BEGIN:VCALENDAR
VERSION:2.0
PRODID:-//Emily Pogorelc - ECPv6.10.1//NONSGML v1.0//EN
CALSCALE:GREGORIAN
METHOD:PUBLISH
X-ORIGINAL-URL:https://www.emilypogorelc.com
X-WR-CALDESC:Events for Emily Pogorelc
REFRESH-INTERVAL;VALUE=DURATION:PT1H
X-Robots-Tag:noindex
X-PUBLISHED-TTL:PT1H
BEGIN:VTIMEZONE
TZID:UTC
BEGIN:STANDARD
TZOFFSETFROM:+0000
TZOFFSETTO:+0000
TZNAME:UTC
DTSTART:20260101T000000
END:STANDARD
END:VTIMEZONE
BEGIN:VEVENT
DTSTART;TZID=UTC:20261106T203000
DTEND;TZID=UTC:20261106T203000
DTSTAMP:20260422T162557
CREATED:20260419T165016Z
LAST-MODIFIED:20260419T165035Z
UID:3115-1793997000-1793997000@www.emilypogorelc.com
SUMMARY:Rossini Stabat Mater with Radio Filharmonisch Orkest at TivoliVredenburg
DESCRIPTION:mily Pogorelc makes her debut with the Radio Filharmonisch Orkest\, the Groot Omroepkoor\, and Utrecht’s TivoliVredenburg\, joining conductor Edward Gardner for an evening of Rossini’s Stabat Mater — a work that transforms the medieval prayer for the grieving Virgin Mary into something closer to lyric opera\, with soaring vocal writing that sits at the intersection of devotion and drama. The concert\, part of the AVROTROS Vrijdagconcert series\, is broadcast live on NPO Klassiek radio and streamed online. It is programmed alongside Busoni’s Berceuse élégiaque and Strauss’s Tod und Verklärung\, placing Rossini’s luminous score in an evening-long meditation on mourning and transcendence. \nPogorelc is joined by mezzo-soprano Ekaterine Buachidze\, tenor Edgardo Rocha\, and bass Giorgi Manoshvili. \n\nSoloists: \nSoprano — Emily Pogorelc \nMezzo-soprano — Ekaterine Buachidze \nTenor — Edgardo Rocha \nBass — Giorgi Manoshvili \n  \nConductor — Edward Gardner \nRadio Filharmonisch Orkest \nGroot Omroepkoor
URL:https://www.emilypogorelc.com/schedule/rossini-stabat-mater-rfo-tivoli/
LOCATION:TivoliVredenburg — Grote Zaal\, Vredenburgkade 11\, Utrecht\, 3511 WC\, Netherlands
CATEGORIES:2026-2027 Season
ATTACH;FMTTYPE=image/jpeg:https://www.emilypogorelc.com/wp-content/uploads/2015/04/MoWo2023_Iberacademy_EmilyPogorelc_c_WolfgangLienbacher_108-scaled.jpg
END:VEVENT
END:VCALENDAR