BEGIN:VCALENDAR
VERSION:2.0
PRODID:-//Emily Pogorelc - ECPv6.10.1//NONSGML v1.0//EN
CALSCALE:GREGORIAN
METHOD:PUBLISH
X-WR-CALNAME:Emily Pogorelc
X-ORIGINAL-URL:https://www.emilypogorelc.com
X-WR-CALDESC:Events for Emily Pogorelc
REFRESH-INTERVAL;VALUE=DURATION:PT1H
X-Robots-Tag:noindex
X-PUBLISHED-TTL:PT1H
BEGIN:VTIMEZONE
TZID:America/New_York
BEGIN:DAYLIGHT
TZOFFSETFROM:-0500
TZOFFSETTO:-0400
TZNAME:EDT
DTSTART:20260308T070000
END:DAYLIGHT
BEGIN:STANDARD
TZOFFSETFROM:-0400
TZOFFSETTO:-0500
TZNAME:EST
DTSTART:20261101T060000
END:STANDARD
BEGIN:DAYLIGHT
TZOFFSETFROM:-0500
TZOFFSETTO:-0400
TZNAME:EDT
DTSTART:20270314T070000
END:DAYLIGHT
BEGIN:STANDARD
TZOFFSETFROM:-0400
TZOFFSETTO:-0500
TZNAME:EST
DTSTART:20271107T060000
END:STANDARD
TZID:UTC
BEGIN:STANDARD
TZOFFSETFROM:+0000
TZOFFSETTO:+0000
TZNAME:UTC
DTSTART:20270101T000000
END:STANDARD
END:VTIMEZONE
BEGIN:VEVENT
DTSTART;TZID=America/New_York:20261226T120000
DTEND;TZID=America/New_York:20261226T120000
DTSTAMP:20260422T215041
CREATED:20260327T142406Z
LAST-MODIFIED:20260327T142406Z
UID:3089-1798286400-1798286400@www.emilypogorelc.com
SUMMARY:Pamina in The Magic Flute at Metropolitan Opera
DESCRIPTION:Emily Pogorelc returns to the Metropolitan Opera to reprise one of her signature roles\, singing Pamina in Mozart’s beloved The Magic Flute in Julie Taymor’s iconic holiday production. This abridged\, English-language staging has become a cherished New York tradition\, enchanting audiences of all ages with its dazzling puppetry\, vibrant costumes\, and the timeless magic of Mozart’s score. Pogorelc is joined by frequent collaborator baritone Rolando Villazón as Papageno\, tenor Piotr Buszewski as Tamino\, and bass Morris Robinson as Sarastro\, under the baton of conductor Nicholas Carter. \nCast:\nPamina — Emily Pogorelc \nTamino — Piotr Buszewski \nPapageno — Rolando Villazón \nSarastro — Morris Robinson \n  \nConductor — Nicholas Carter \nProduction — Julie Taymor
URL:https://www.emilypogorelc.com/schedule/pamina-met-magic-flute-4/
LOCATION:Metropolitan Opera House\, 30 Lincoln Center Plaza\, New York\, NY\, 10023\, United States
CATEGORIES:2026-2027 Season
ATTACH;FMTTYPE=image/jpeg:https://www.emilypogorelc.com/wp-content/uploads/2015/04/magic-flute-termine-1-1536x864-1.jpg
END:VEVENT
BEGIN:VEVENT
DTSTART;TZID=America/New_York:20261228T110000
DTEND;TZID=America/New_York:20261228T110000
DTSTAMP:20260422T215041
CREATED:20260327T142515Z
LAST-MODIFIED:20260327T142515Z
UID:3090-1798455600-1798455600@www.emilypogorelc.com
SUMMARY:Pamina in The Magic Flute at Metropolitan Opera
DESCRIPTION:Emily Pogorelc returns to the Metropolitan Opera to reprise one of her signature roles\, singing Pamina in Mozart’s beloved The Magic Flute in Julie Taymor’s iconic holiday production. This abridged\, English-language staging has become a cherished New York tradition\, enchanting audiences of all ages with its dazzling puppetry\, vibrant costumes\, and the timeless magic of Mozart’s score. Pogorelc is joined by frequent collaborator baritone Rolando Villazón as Papageno\, tenor Piotr Buszewski as Tamino\, and bass Morris Robinson as Sarastro\, under the baton of conductor Nicholas Carter. \nCast:\nPamina — Emily Pogorelc \nTamino — Piotr Buszewski \nPapageno — Rolando Villazón \nSarastro — Morris Robinson \n  \nConductor — Nicholas Carter \nProduction — Julie Taymor
URL:https://www.emilypogorelc.com/schedule/pamina-met-magic-flute-5/
LOCATION:Metropolitan Opera House\, 30 Lincoln Center Plaza\, New York\, NY\, 10023\, United States
CATEGORIES:2026-2027 Season
ATTACH;FMTTYPE=image/jpeg:https://www.emilypogorelc.com/wp-content/uploads/2015/04/magic-flute-termine-1-1536x864-1.jpg
END:VEVENT
BEGIN:VEVENT
DTSTART;TZID=America/New_York:20270102T120000
DTEND;TZID=America/New_York:20270102T120000
DTSTAMP:20260422T215041
CREATED:20260327T142633Z
LAST-MODIFIED:20260327T142633Z
UID:3091-1798891200-1798891200@www.emilypogorelc.com
SUMMARY:Pamina in The Magic Flute at Metropolitan Opera
DESCRIPTION:Emily Pogorelc returns to the Metropolitan Opera to reprise one of her signature roles\, singing Pamina in Mozart’s beloved The Magic Flute in Julie Taymor’s iconic holiday production. This abridged\, English-language staging has become a cherished New York tradition\, enchanting audiences of all ages with its dazzling puppetry\, vibrant costumes\, and the timeless magic of Mozart’s score. Pogorelc is joined by frequent collaborator baritone Rolando Villazón as Papageno\, tenor Piotr Buszewski as Tamino\, and bass Morris Robinson as Sarastro\, under the baton of conductor Nicholas Carter. \nCast:\nPamina — Emily Pogorelc \nTamino — Piotr Buszewski \nPapageno — Rolando Villazón \nSarastro — Morris Robinson \n  \nConductor — Nicholas Carter \nProduction — Julie Taymor
URL:https://www.emilypogorelc.com/schedule/pamina-met-magic-flute-6/
LOCATION:Metropolitan Opera House\, 30 Lincoln Center Plaza\, New York\, NY\, 10023\, United States
CATEGORIES:2026-2027 Season
ATTACH;FMTTYPE=image/jpeg:https://www.emilypogorelc.com/wp-content/uploads/2015/04/magic-flute-termine-1-1536x864-1.jpg
END:VEVENT
BEGIN:VEVENT
DTSTART;TZID=UTC:20270210T183000
DTEND;TZID=UTC:20270210T183000
DTSTAMP:20260422T215041
CREATED:20260419T172937Z
LAST-MODIFIED:20260419T173404Z
UID:3131-1802284200-1802284200@www.emilypogorelc.com
SUMMARY:Despina in Così fan tutte at Royal Opera House (House & Role Debut)
DESCRIPTION:Emily Pogorelc makes her Royal Opera House debut as Despina in Mozart’s Così fan tutte — also her role debut in the part — in a new production directed by Netia Jones\, Associate Director of The Royal Opera\, in her own Main Stage debut. Jones\, renowned for her inventive use of digital media\, reimagines Mozart’s comedy of manners through a sharply contemporary lens\, where 18th-century romantic trickery collides with high-tech deceit: a production that finds new sting in a work that has been scandalising audiences since 1790. Thomas Hengelbrock conducts the Orchestra of the Royal Opera House. \nPogorelc joins a stellar cast led by soprano Louise Alder as Fiordiligi\, mezzo-soprano Simone McIntosh as Dorabella\, tenor Mingjie Lei as Ferrando\, baritone Huw Montague Rendall as Guglielmo\, and bass-baritone Gerald Finley as Don Alfonso. \n\n\n\n\n\n\n\n\n\n\n\n\n\n\nCast:\nDespina — Emily Pogorelc\nFiordiligi — Louise Alder\nDorabella — Simone McIntosh\nFerrando — Mingjie Lei\nGuglielmo — Huw Montague Rendall\nDon Alfonso — Gerald Finley\n\nConductor — Thomas Hengelbrock\nProduction — Netia Jones\nSet Design — Hyemi Shin
URL:https://www.emilypogorelc.com/schedule/despina-royal-opera-house-cosi/
LOCATION:Royal Opera House — Main Stage\, Bow Street\, London\, England\, WC2E 9DD\, United Kingdom
CATEGORIES:2026-2027 Season
ATTACH;FMTTYPE=image/jpeg:https://www.emilypogorelc.com/wp-content/uploads/2019/11/joe-mazza-chicago-2023-6686.jpg
END:VEVENT
BEGIN:VEVENT
DTSTART;TZID=UTC:20270212T190000
DTEND;TZID=UTC:20270212T190000
DTSTAMP:20260422T215041
CREATED:20260419T173230Z
LAST-MODIFIED:20260419T173322Z
UID:3135-1802458800-1802458800@www.emilypogorelc.com
SUMMARY:Despina in Così fan tutte at Royal Opera House (House & Role Debut)
DESCRIPTION:Emily Pogorelc makes her Royal Opera House debut as Despina in Mozart’s Così fan tutte — also her role debut in the part — in a new production directed by Netia Jones\, Associate Director of The Royal Opera\, in her own Main Stage debut. Jones\, renowned for her inventive use of digital media\, reimagines Mozart’s comedy of manners through a sharply contemporary lens\, where 18th-century romantic trickery collides with high-tech deceit: a production that finds new sting in a work that has been scandalising audiences since 1790. Thomas Hengelbrock conducts the Orchestra of the Royal Opera House. \nPogorelc joins a stellar cast led by soprano Louise Alder as Fiordiligi\, mezzo-soprano Simone McIntosh as Dorabella\, tenor Mingjie Lei as Ferrando\, baritone Huw Montague Rendall as Guglielmo\, and bass-baritone Gerald Finley as Don Alfonso. \n\n\n\n\n\n\n\n\n\n\n\n\n\n\nCast:\nDespina — Emily Pogorelc\nFiordiligi — Louise Alder\nDorabella — Simone McIntosh\nFerrando — Mingjie Lei\nGuglielmo — Huw Montague Rendall\nDon Alfonso — Gerald Finley\n\nConductor — Thomas Hengelbrock\nProduction — Netia Jones\nSet Design — Hyemi Shin
URL:https://www.emilypogorelc.com/schedule/despina-royal-opera-house-cosi-2/
LOCATION:Royal Opera House — Main Stage\, Bow Street\, London\, England\, WC2E 9DD\, United Kingdom
CATEGORIES:2026-2027 Season
ATTACH;FMTTYPE=image/jpeg:https://www.emilypogorelc.com/wp-content/uploads/2019/11/joe-mazza-chicago-2023-6686.jpg
END:VEVENT
BEGIN:VEVENT
DTSTART;TZID=UTC:20270216T190000
DTEND;TZID=UTC:20270216T190000
DTSTAMP:20260422T215041
CREATED:20260419T173726Z
LAST-MODIFIED:20260419T173726Z
UID:3137-1802804400-1802804400@www.emilypogorelc.com
SUMMARY:Despina in Così fan tutte at Royal Opera House (House & Role Debut)
DESCRIPTION:Emily Pogorelc makes her Royal Opera House debut as Despina in Mozart’s Così fan tutte — also her role debut in the part — in a new production directed by Netia Jones\, Associate Director of The Royal Opera\, in her own Main Stage debut. Jones\, renowned for her inventive use of digital media\, reimagines Mozart’s comedy of manners through a sharply contemporary lens\, where 18th-century romantic trickery collides with high-tech deceit: a production that finds new sting in a work that has been scandalising audiences since 1790. Thomas Hengelbrock conducts the Orchestra of the Royal Opera House. \nPogorelc joins a stellar cast led by soprano Louise Alder as Fiordiligi\, mezzo-soprano Simone McIntosh as Dorabella\, tenor Mingjie Lei as Ferrando\, baritone Huw Montague Rendall as Guglielmo\, and bass-baritone Gerald Finley as Don Alfonso. \n\n\n\n\n\n\n\n\n\n\n\n\n\n\nCast:\nDespina — Emily Pogorelc\nFiordiligi — Louise Alder\nDorabella — Simone McIntosh\nFerrando — Mingjie Lei\nGuglielmo — Huw Montague Rendall\nDon Alfonso — Gerald Finley\n\nConductor — Thomas Hengelbrock\nProduction — Netia Jones\nSet Design — Hyemi Shin
URL:https://www.emilypogorelc.com/schedule/despina-royal-opera-house-cosi-3/
LOCATION:Royal Opera House — Main Stage\, Bow Street\, London\, England\, WC2E 9DD\, United Kingdom
CATEGORIES:2026-2027 Season
ATTACH;FMTTYPE=image/jpeg:https://www.emilypogorelc.com/wp-content/uploads/2019/11/joe-mazza-chicago-2023-6686.jpg
END:VEVENT
BEGIN:VEVENT
DTSTART;TZID=UTC:20270218T190000
DTEND;TZID=UTC:20270218T190000
DTSTAMP:20260422T215041
CREATED:20260419T174033Z
LAST-MODIFIED:20260419T174033Z
UID:3140-1802977200-1802977200@www.emilypogorelc.com
SUMMARY:Despina in Così fan tutte at Royal Opera House (House & Role Debut)
DESCRIPTION:Emily Pogorelc makes her Royal Opera House debut as Despina in Mozart’s Così fan tutte — also her role debut in the part — in a new production directed by Netia Jones\, Associate Director of The Royal Opera\, in her own Main Stage debut. Jones\, renowned for her inventive use of digital media\, reimagines Mozart’s comedy of manners through a sharply contemporary lens\, where 18th-century romantic trickery collides with high-tech deceit: a production that finds new sting in a work that has been scandalising audiences since 1790. Thomas Hengelbrock conducts the Orchestra of the Royal Opera House. \nPogorelc joins a stellar cast led by soprano Louise Alder as Fiordiligi\, mezzo-soprano Simone McIntosh as Dorabella\, tenor Mingjie Lei as Ferrando\, baritone Huw Montague Rendall as Guglielmo\, and bass-baritone Gerald Finley as Don Alfonso. \n\n\n\n\n\n\n\n\n\n\n\n\n\n\nCast:\nDespina — Emily Pogorelc\nFiordiligi — Louise Alder\nDorabella — Simone McIntosh\nFerrando — Mingjie Lei\nGuglielmo — Huw Montague Rendall\nDon Alfonso — Gerald Finley\n\nConductor — Thomas Hengelbrock\nProduction — Netia Jones\nSet Design — Hyemi Shin
URL:https://www.emilypogorelc.com/schedule/despina-royal-opera-house-cosi-4/
LOCATION:Royal Opera House — Main Stage\, Bow Street\, London\, England\, WC2E 9DD\, United Kingdom
CATEGORIES:2026-2027 Season
ATTACH;FMTTYPE=image/jpeg:https://www.emilypogorelc.com/wp-content/uploads/2024/01/joe-mazza-chicago-2023-7245.jpg
END:VEVENT
BEGIN:VEVENT
DTSTART;TZID=UTC:20270223T190000
DTEND;TZID=UTC:20270223T190000
DTSTAMP:20260422T215041
CREATED:20260419T174447Z
LAST-MODIFIED:20260419T174459Z
UID:3142-1803409200-1803409200@www.emilypogorelc.com
SUMMARY:Despina in Così fan tutte at Royal Opera House (House & Role Debut)
DESCRIPTION:Emily Pogorelc makes her Royal Opera House debut as Despina in Mozart’s Così fan tutte — also her role debut in the part — in a new production directed by Netia Jones\, Associate Director of The Royal Opera\, in her own Main Stage debut. Jones\, renowned for her inventive use of digital media\, reimagines Mozart’s comedy of manners through a sharply contemporary lens\, where 18th-century romantic trickery collides with high-tech deceit: a production that finds new sting in a work that has been scandalising audiences since 1790. Thomas Hengelbrock conducts the Orchestra of the Royal Opera House. \nPogorelc joins a stellar cast led by soprano Louise Alder as Fiordiligi\, mezzo-soprano Simone McIntosh as Dorabella\, tenor Mingjie Lei as Ferrando\, baritone Huw Montague Rendall as Guglielmo\, and bass-baritone Gerald Finley as Don Alfonso. \n\n\n\n\n\n\n\n\n\n\n\n\n\n\nCast:\nDespina — Emily Pogorelc\nFiordiligi — Louise Alder\nDorabella — Simone McIntosh\nFerrando — Mingjie Lei\nGuglielmo — Huw Montague Rendall\nDon Alfonso — Gerald Finley\n\nConductor — Thomas Hengelbrock\nProduction — Netia Jones\nSet Design — Hyemi Shin
URL:https://www.emilypogorelc.com/schedule/despina-royal-opera-house-cosi-5/
LOCATION:Royal Opera House — Main Stage\, Bow Street\, London\, England\, WC2E 9DD\, United Kingdom
CATEGORIES:2026-2027 Season
ATTACH;FMTTYPE=image/jpeg:https://www.emilypogorelc.com/wp-content/uploads/2019/11/joe-mazza-chicago-2023-6686.jpg
END:VEVENT
BEGIN:VEVENT
DTSTART;TZID=UTC:20270225T190000
DTEND;TZID=UTC:20270225T190000
DTSTAMP:20260422T215041
CREATED:20260419T174751Z
LAST-MODIFIED:20260419T175044Z
UID:3144-1803582000-1803582000@www.emilypogorelc.com
SUMMARY:Despina in Così fan tutte at Royal Opera House (House & Role Debut)
DESCRIPTION:Emily Pogorelc makes her Royal Opera House debut as Despina in Mozart’s Così fan tutte — also her role debut in the part — in a new production directed by Netia Jones\, Associate Director of The Royal Opera\, in her own Main Stage debut. Jones\, renowned for her inventive use of digital media\, reimagines Mozart’s comedy of manners through a sharply contemporary lens\, where 18th-century romantic trickery collides with high-tech deceit: a production that finds new sting in a work that has been scandalising audiences since 1790. Thomas Hengelbrock conducts the Orchestra of the Royal Opera House. \nPogorelc joins a stellar cast led by soprano Louise Alder as Fiordiligi\, mezzo-soprano Simone McIntosh as Dorabella\, tenor Mingjie Lei as Ferrando\, baritone Huw Montague Rendall as Guglielmo\, and bass-baritone Gerald Finley as Don Alfonso. \n\n\n\n\n\n\n\n\n\n\n\n\n\n\nCast:\nDespina — Emily Pogorelc\nFiordiligi — Louise Alder\nDorabella — Simone McIntosh\nFerrando — Mingjie Lei\nGuglielmo — Huw Montague Rendall\nDon Alfonso — Gerald Finley\n\nConductor — Thomas Hengelbrock\nProduction — Netia Jones\nSet Design — Hyemi Shin
URL:https://www.emilypogorelc.com/schedule/despina-royal-opera-house-cosi-6/
LOCATION:Royal Opera House — Main Stage\, Bow Street\, London\, England\, WC2E 9DD\, United Kingdom
CATEGORIES:2026-2027 Season
ATTACH;FMTTYPE=image/jpeg:https://www.emilypogorelc.com/wp-content/uploads/2019/11/joe-mazza-chicago-2023-6686.jpg
END:VEVENT
BEGIN:VEVENT
DTSTART;TZID=UTC:20270228T140000
DTEND;TZID=UTC:20270228T140000
DTSTAMP:20260422T215041
CREATED:20260419T175307Z
LAST-MODIFIED:20260419T181405Z
UID:3147-1803823200-1803823200@www.emilypogorelc.com
SUMMARY:Despina in Così fan tutte at Royal Opera House (House & Role Debut)
DESCRIPTION:Emily Pogorelc makes her Royal Opera House debut as Despina in Mozart’s Così fan tutte — also her role debut in the part — in a new production directed by Netia Jones\, Associate Director of The Royal Opera\, in her own Main Stage debut. Jones\, renowned for her inventive use of digital media\, reimagines Mozart’s comedy of manners through a sharply contemporary lens\, where 18th-century romantic trickery collides with high-tech deceit: a production that finds new sting in a work that has been scandalising audiences since 1790. Thomas Hengelbrock conducts the Orchestra of the Royal Opera House. \nPogorelc joins a stellar cast led by soprano Louise Alder as Fiordiligi\, mezzo-soprano Simone McIntosh as Dorabella\, tenor Mingjie Lei as Ferrando\, baritone Huw Montague Rendall as Guglielmo\, and bass-baritone Gerald Finley as Don Alfonso. \n\n\n\n\n\n\n\n\n\n\n\n\n\n\nCast:\nDespina — Emily Pogorelc\nFiordiligi — Louise Alder\nDorabella — Simone McIntosh\nFerrando — Mingjie Lei\nGuglielmo — Huw Montague Rendall\nDon Alfonso — Gerald Finley\n\nConductor — Thomas Hengelbrock\nProduction — Netia Jones\nSet Design — Hyemi Shin
URL:https://www.emilypogorelc.com/schedule/despina-royal-opera-house-cosi-7/
LOCATION:Royal Opera House — Main Stage\, Bow Street\, London\, England\, WC2E 9DD\, United Kingdom
CATEGORIES:2026-2027 Season
ATTACH;FMTTYPE=image/jpeg:https://www.emilypogorelc.com/wp-content/uploads/2024/01/joe-mazza-chicago-2023-7245.jpg
END:VEVENT
BEGIN:VEVENT
DTSTART;TZID=UTC:20270408T200000
DTEND;TZID=UTC:20270408T200000
DTSTAMP:20260422T215041
CREATED:20260419T180711Z
LAST-MODIFIED:20260419T180711Z
UID:3150-1807214400-1807214400@www.emilypogorelc.com
SUMMARY:Brahms Ein deutsches Requiem with Atlanta Symphony Orchestra
DESCRIPTION:Emily Pogorelc makes her debut with the Atlanta Symphony Orchestra and conductor Nathalie Stutzmann in one of the great choral monuments of the repertoire: Brahms’s Ein deutsches Requiem. A work of profound tenderness\, it sets texts not of grief but of comfort — a hymn of consolation that moves from mourning to transcendence with extraordinary grace. The concert opens with the Duet-Concertino by Richard Strauss\, featuring the artistry of ASO principals Jesse McCandless and Cameron Bonner. \nPogorelc is joined by baritone Samuel Hasselhorn. Of her previous performance of the Requiem with the Iceland Symphony Orchestra\, Seen and Heard International wrote that her “full-bodied voice bloomed clear and true” in the soprano’s aria Ihr habt nun Traurigkeit. \n\n\n\n\n\n\n\n\n\n\n\n\n\n\nSoloists:\nSoprano — Emily Pogorelc\nBaritone — Samuel Hasselhorn\n\nConductor — Nathalie Stutzmann\nAtlanta Symphony Orchestra\nAtlanta Symphony Orchestra Chorus
URL:https://www.emilypogorelc.com/schedule/brahms-requiem-atlanta-symphony/
LOCATION:Atlanta Symphony Hall\, 1280 Peachtree Street NE\, Atlanta\, GA\, 30309\, United States
CATEGORIES:2026-2027 Season
ATTACH;FMTTYPE=image/jpeg:https://www.emilypogorelc.com/wp-content/uploads/2026/04/Emily-Pogorelc-Slovenska-filharmonia-festival-Symfonia-umenia-Bratislava-2023.jpg
END:VEVENT
BEGIN:VEVENT
DTSTART;TZID=UTC:20270410T200000
DTEND;TZID=UTC:20270410T200000
DTSTAMP:20260422T215041
CREATED:20260419T181008Z
LAST-MODIFIED:20260419T181008Z
UID:3155-1807387200-1807387200@www.emilypogorelc.com
SUMMARY:Brahms Ein deutsches Requiem with Atlanta Symphony Orchestra
DESCRIPTION:Emily Pogorelc makes her debut with the Atlanta Symphony Orchestra and conductor Nathalie Stutzmann in one of the great choral monuments of the repertoire: Brahms’s Ein deutsches Requiem. A work of profound tenderness\, it sets texts not of grief but of comfort — a hymn of consolation that moves from mourning to transcendence with extraordinary grace. The concert opens with the Duet-Concertino by Richard Strauss\, featuring the artistry of ASO principals Jesse McCandless and Cameron Bonner. \nPogorelc is joined by baritone Samuel Hasselhorn. Of her previous performance of the Requiem with the Iceland Symphony Orchestra\, Seen and Heard International wrote that her “full-bodied voice bloomed clear and true” in the soprano’s aria Ihr habt nun Traurigkeit. \n\n\n\n\n\n\n\n\n\n\n\n\n\n\nSoloists:\nSoprano — Emily Pogorelc\nBaritone — Samuel Hasselhorn\n\nConductor — Nathalie Stutzmann\nAtlanta Symphony Orchestra\nAtlanta Symphony Orchestra Chorus
URL:https://www.emilypogorelc.com/schedule/brahms-requiem-atlanta-symphony-2/
LOCATION:Atlanta Symphony Hall\, 1280 Peachtree Street NE\, Atlanta\, GA\, 30309\, United States
CATEGORIES:2026-2027 Season
ATTACH;FMTTYPE=image/jpeg:https://www.emilypogorelc.com/wp-content/uploads/2026/04/Emily-Pogorelc-Slovenska-filharmonia-festival-Symfonia-umenia-Bratislava-2023.jpg
END:VEVENT
BEGIN:VEVENT
DTSTART;TZID=UTC:20270411T150000
DTEND;TZID=UTC:20270411T150000
DTSTAMP:20260422T215041
CREATED:20260419T181248Z
LAST-MODIFIED:20260419T181248Z
UID:3157-1807455600-1807455600@www.emilypogorelc.com
SUMMARY:Brahms Ein deutsches Requiem with Atlanta Symphony Orchestra
DESCRIPTION:Emily Pogorelc makes her debut with the Atlanta Symphony Orchestra and conductor Nathalie Stutzmann in one of the great choral monuments of the repertoire: Brahms’s Ein deutsches Requiem. A work of profound tenderness\, it sets texts not of grief but of comfort — a hymn of consolation that moves from mourning to transcendence with extraordinary grace. The concert opens with the Duet-Concertino by Richard Strauss\, featuring the artistry of ASO principals Jesse McCandless and Cameron Bonner. \nPogorelc is joined by baritone Samuel Hasselhorn. Of her previous performance of the Requiem with the Iceland Symphony Orchestra\, Seen and Heard International wrote that her “full-bodied voice bloomed clear and true” in the soprano’s aria Ihr habt nun Traurigkeit. \n\n\n\n\n\n\n\n\n\n\n\n\nSoloists:\nSoprano — Emily Pogorelc\nBaritone — Samuel Hasselhorn\n\nConductor — Nathalie Stutzmann\nAtlanta Symphony Orchestra\nAtlanta Symphony Orchestra Chorus
URL:https://www.emilypogorelc.com/schedule/brahms-requiem-atlanta-symphony-3/
LOCATION:Atlanta Symphony Hall\, 1280 Peachtree Street NE\, Atlanta\, GA\, 30309\, United States
CATEGORIES:2026-2027 Season
ATTACH;FMTTYPE=image/jpeg:https://www.emilypogorelc.com/wp-content/uploads/2026/04/Emily-Pogorelc-Slovenska-filharmonia-festival-Symfonia-umenia-Bratislava-2023.jpg
END:VEVENT
END:VCALENDAR